BEGIN:VCALENDAR
VERSION:2.0
PRODID:spatie/icalendar-generator
DESCRIPTION:Events from Friends Meeting of San Antonio
X-WR-CALDESC:Events from Friends Meeting of San Antonio
REFRESH-INTERVAL;VALUE=DURATION:PT1440M
X-PUBLISHED-TTL:PT1440M
BEGIN:VTIMEZONE
TZID:America/Chicago
BEGIN:STANDARD
DTSTART:20251102T020000Z
TZOFFSETFROM:-0500
TZOFFSETTO:-0600
END:STANDARD
BEGIN:DAYLIGHT
DTSTART:20260308T020000Z
TZOFFSETFROM:-0600
TZOFFSETTO:-0500
END:DAYLIGHT
END:VTIMEZONE
BEGIN:VTIMEZONE
TZID:UTC
BEGIN:STANDARD
DTSTART:20250726T135612Z
TZOFFSETFROM:+0000
TZOFFSETTO:+0000
END:STANDARD
END:VTIMEZONE
BEGIN:VEVENT
UID:6663-250
DTSTAMP:20260422T135612Z
SUMMARY:AA Meeting
LOCATION:
ORGANIZER;CN=Jim:MAILTO:jim@mcguire-spickard.com
RRULE:FREQ=WEEKLY;UNTIL=20270129T000000Z
DTSTART;TZID=America/Chicago:20260403T183000
DTEND;TZID=America/Chicago:20260403T203000
X-ALT-DESC;FMTTYPE=TEXT/HTML:An AA group uses our meetinghouse each Friday 
 starting at 6:30pm. Open to the public
CATEGORIES:Outside Group
URL;VALUE=URI:https://sanantonioquakers.org/calendar/?mc_id=6663
METHOD:PUBLISH
END:VEVENT
BEGIN:VEVENT
UID:6775-269
DTSTAMP:20260422T135612Z
SUMMARY:Private Event
LOCATION:
ORGANIZER;CN=Jim:MAILTO:jim@mcguire-spickard.com
RRULE:FREQ=MONTHLY;BYDAY=1SA;UNTIL=20260509T000000Z
DTSTART;TZID=America/Chicago:20260404T090000
DTEND;TZID=America/Chicago:20260404T130000
X-ALT-DESC;FMTTYPE=TEXT/HTML:Meetinghouse is rented for a private event.
CATEGORIES:Private Event
URL;VALUE=URI:https://sanantonioquakers.org/calendar/?mc_id=6775
METHOD:PUBLISH
END:VEVENT
BEGIN:VEVENT
UID:5652-85
DTSTAMP:20260422T135612Z
SUMMARY:Blended Meeting for Worship
LOCATION:
ORGANIZER;CN=Jim:MAILTO:jim@mcguire-spickard.com
RRULE:FREQ=WEEKLY;COUNT=0
DTSTART;TZID=America/Chicago:20260405T100000
DTEND;TZID=America/Chicago:20260405T110000
X-ALT-DESC;FMTTYPE=TEXT/HTML:Please join us in the Meeting Room for Meeting
  for Worship. If you are unable to attend in person\, then you are welcome
  to join us by Zoom. _____________________________________________________
 _______ To join by Zoom: Click HERE Zoom ID #976 0522 6497 passcode: 1940
 77 Phone: +1 346 248 7799\, then enter ID#
CATEGORIES:Meeting for Worship
URL;VALUE=URI:https://sanantonioquakers.org/calendar/?mc_id=5652
METHOD:PUBLISH
END:VEVENT
BEGIN:VEVENT
UID:6581-249
DTSTAMP:20260422T135612Z
SUMMARY:Plum Branch Meditation
LOCATION:
ORGANIZER;CN=Jim:MAILTO:jim@mcguire-spickard.com
RRULE:FREQ=WEEKLY;UNTIL=20270126T000000Z
DTSTART;TZID=America/Chicago:20260407T180000
DTEND;TZID=America/Chicago:20260407T213000
X-ALT-DESC;FMTTYPE=TEXT/HTML:Plum Branch Sangha uses the Meetinghouse on Tu
 esday evenings
CATEGORIES:Outside Group
URL;VALUE=URI:https://sanantonioquakers.org/calendar/?mc_id=6581
METHOD:PUBLISH
END:VEVENT
BEGIN:VEVENT
UID:6344-281
DTSTAMP:20260422T135612Z
SUMMARY:Forum: Quaker Work in the World
LOCATION:
ORGANIZER;CN=Jim:MAILTO:jim@mcguire-spickard.com
DTSTART;TZID=America/Chicago:20260412T113000
DTEND;TZID=America/Chicago:20260412T123000
X-ALT-DESC;FMTTYPE=TEXT/HTML:We will hear about the work of American Friend
 s Service Committee\, Quaker Earthcare Witness\, and Friends Peace Teams.
CATEGORIES:Forum
URL;VALUE=URI:https://sanantonioquakers.org/calendar/?mc_id=6344
METHOD:PUBLISH
END:VEVENT
BEGIN:VEVENT
UID:6750-253
DTSTAMP:20260422T135612Z
SUMMARY:SA Prime Timers
LOCATION:
ORGANIZER;CN=Jim:MAILTO:jim@mcguire-spickard.com
RRULE:FREQ=MONTHLY;BYDAY=2SU;UNTIL=20270110T000000Z
DTSTART;TZID=America/Chicago:20260412T140000
DTEND;TZID=America/Chicago:20260412T160000
X-ALT-DESC;FMTTYPE=TEXT/HTML:The San Antonio Prime Timers use the Meetingho
 use on the 2nd Sunday of each month.
CATEGORIES:Outside Group
URL;VALUE=URI:https://sanantonioquakers.org/calendar/?mc_id=6750
METHOD:PUBLISH
END:VEVENT
BEGIN:VEVENT
UID:6451-246
DTSTAMP:20260422T135612Z
SUMMARY:Private Event
LOCATION:
ORGANIZER;CN=Jim:MAILTO:jim@mcguire-spickard.com
RRULE:FREQ=MONTHLY;BYDAY=3TH;UNTIL=20270121T000000Z
DTSTART;TZID=America/Chicago:20260416T170000
DTEND;TZID=America/Chicago:20260416T220000
X-ALT-DESC;FMTTYPE=TEXT/HTML:Meetinghouse is rented for a private event.
CATEGORIES:Other,  Private Event
URL;VALUE=URI:https://sanantonioquakers.org/calendar/?mc_id=6451
METHOD:PUBLISH
END:VEVENT
BEGIN:VEVENT
UID:6002-96
DTSTAMP:20260422T135612Z
SUMMARY:Meeting for (Not Just) Weeding at the Meetinghouse
LOCATION:
ORGANIZER;CN=Jim:MAILTO:jim@mcguire-spickard.com
RRULE:FREQ=MONTHLY;BYDAY=3SA;COUNT=0
DTSTART;TZID=America/Chicago:20260418T090000
DTEND;TZID=America/Chicago:20260418T130000
X-ALT-DESC;FMTTYPE=TEXT/HTML:Join us for a \"Meeting for (Not Just) Weeding
 \" at the Meetinghouse.  All are welcome!  Lots of things to do to get r
 eady for in-person activities. Join us!
CATEGORIES:Work party
URL;VALUE=URI:https://sanantonioquakers.org/calendar/?mc_id=6002
METHOD:PUBLISH
END:VEVENT
BEGIN:VEVENT
UID:6715-251
DTSTAMP:20260422T135612Z
SUMMARY:BOTA
LOCATION:
ORGANIZER;CN=Jim:MAILTO:jim@mcguire-spickard.com
RRULE:FREQ=MONTHLY;BYDAY=3SA;UNTIL=20270116T000000Z
DTSTART;TZID=America/Chicago:20260418T133000
DTEND;TZID=America/Chicago:20260418T163000
X-ALT-DESC;FMTTYPE=TEXT/HTML:The \"Builders of the Adytum\" discussion grou
 p meets on the 3rd Saturday of each month.
CATEGORIES:Outside Group
URL;VALUE=URI:https://sanantonioquakers.org/calendar/?mc_id=6715
METHOD:PUBLISH
END:VEVENT
BEGIN:VEVENT
UID:5214-79
DTSTAMP:20260422T135612Z
SUMMARY:Monthly Business Meeting
LOCATION:
ORGANIZER;CN=Jim:MAILTO:jim@mcguire-spickard.com
RRULE:FREQ=MONTHLY;BYDAY=3SU;COUNT=0
DTSTART;TZID=America/Chicago:20260419T113000
DTEND;TZID=America/Chicago:20260419T130000
X-ALT-DESC;FMTTYPE=TEXT/HTML:Meeting for Worship with Attention to Business
  will be in-person. &amp;nbsp\; If you are unable to attend in person\, then y
 ou may join us by Zoom. To join by Zoom: Click HERE Opens in new tab Op
 ens in new tab ID #976 0522 6497\; passcode: 194077 Phone: +1 346 248 779
 9\, then enter ID# Agenda &amp;amp\; Draft Minutes will be&amp;hellip\;
CATEGORIES:Business Meeting
URL;VALUE=URI:https://sanantonioquakers.org/calendar/?mc_id=5214
METHOD:PUBLISH
END:VEVENT
BEGIN:VEVENT
UID:6785-282
DTSTAMP:20260422T135612Z
SUMMARY:Forum: Immigration
LOCATION:
ORGANIZER;CN=Denise Wilkinson:MAILTO:denisewilk86@gmail.com
DTSTART;TZID=America/Chicago:20260426T113000
DTEND;TZID=America/Chicago:20260426T123000
X-ALT-DESC;FMTTYPE=TEXT/HTML:
CATEGORIES:Forum
URL;VALUE=URI:https://sanantonioquakers.org/calendar/?mc_id=6785
METHOD:PUBLISH
END:VEVENT
END:VCALENDAR